BEGIN:VCALENDAR
VERSION:2.0
PRODID:-//Eventin//Event Calendar//EN
CALSCALE:GREGORIAN
METHOD:PUBLISH
BEGIN:VEVENT
UID:3ae63e769ab0564d72793fb93aaf9aa9@pagan-calendar.com
SUMMARY:Enlightened Soul HOLISTIC PSYCHIC FAIR
DESCRIPTION:Details and tickets: https://www.meetup.com/bodymindspiritguide
 -live/events/312527587/
LOCATION:Enlightened Soul Center & Shop\, Carpenter Road\, Ann Arbor\, MI\,
  USA
DTSTAMP:20260423T192644Z
DTSTART:20260516T160000Z
DTEND:20260516T210000Z
END:VEVENT
END:VCALENDAR
