BEGIN:VCALENDAR
VERSION:2.0
PRODID:-//Eventin//Event Calendar//EN
CALSCALE:GREGORIAN
METHOD:PUBLISH
BEGIN:VEVENT
UID:031871c0c12bbedb38be17dfd7aaff8a@pagan-calendar.com
SUMMARY:Enlightened Soul HOLISTIC PSYCHIC FAIR
DESCRIPTION:Details and tickets: https://www.meetup.com/bodymindspiritguide
 -live/events/312527587/
LOCATION:Enlightened Soul Center & Shop\, Carpenter Road\, Ann Arbor\, MI\,
  USA
DTSTAMP:20260423T192642Z
DTSTART:20260502T160000Z
DTEND:20260502T210000Z
END:VEVENT
END:VCALENDAR
