BEGIN:VCALENDAR
VERSION:2.0
PRODID:-//Eventin//Event Calendar//EN
CALSCALE:GREGORIAN
METHOD:PUBLISH
BEGIN:VEVENT
UID:3a69a4d0e855f3bf891d87371d8bade1@pagan-calendar.com
SUMMARY:Witches Night Bazaar: Summer Solstice
DESCRIPTION:Vendors\, classes. Details and Tickets: https://www.eventbrite.
 com/e/witches-night-bazaar-summer-solstice-registration-175118883594
LOCATION:Tangent Gallery & Hastings Street Ballroom\, East Milwaukee Avenue
 \, Detroit\, MI\, USA
DTSTAMP:20260423T192644Z
DTSTART:20260614T210000Z
DTEND:20260615T020000Z
END:VEVENT
END:VCALENDAR
