BEGIN:VCALENDAR
VERSION:2.0
PRODID:-//Eventin//Event Calendar//EN
CALSCALE:GREGORIAN
METHOD:PUBLISH
BEGIN:VEVENT
UID:853d3794fc2f973c6ceb121278208be8@pagan-calendar.com
SUMMARY:Wild Women Weekend 2026
DESCRIPTION:See facebook for details: https://www.facebook.com/events/11065
 37444999825/
LOCATION:Wolf Run Wildlife and Spiritual Sanctuary\, 60th Ave\, Remus\, MI\
 , USA
DTSTAMP:20260423T192646Z
DTSTART:20260709T190000Z
DTEND:20260712T210000Z
END:VEVENT
END:VCALENDAR
